BEGIN:VCALENDAR
VERSION:2.0
PRODID:-//TCEU Local 416 - ECPv6.15.20//NONSGML v1.0//EN
CALSCALE:GREGORIAN
METHOD:PUBLISH
X-WR-CALNAME:TCEU Local 416
X-ORIGINAL-URL:https://local416.ca
X-WR-CALDESC:Events for TCEU Local 416
REFRESH-INTERVAL;VALUE=DURATION:PT1H
X-Robots-Tag:noindex
X-PUBLISHED-TTL:PT1H
BEGIN:VTIMEZONE
TZID:America/Toronto
BEGIN:DAYLIGHT
TZOFFSETFROM:-0500
TZOFFSETTO:-0400
TZNAME:EDT
DTSTART:20240310T070000
END:DAYLIGHT
BEGIN:STANDARD
TZOFFSETFROM:-0400
TZOFFSETTO:-0500
TZNAME:EST
DTSTART:20241103T060000
END:STANDARD
BEGIN:DAYLIGHT
TZOFFSETFROM:-0500
TZOFFSETTO:-0400
TZNAME:EDT
DTSTART:20250309T070000
END:DAYLIGHT
BEGIN:STANDARD
TZOFFSETFROM:-0400
TZOFFSETTO:-0500
TZNAME:EST
DTSTART:20251102T060000
END:STANDARD
BEGIN:DAYLIGHT
TZOFFSETFROM:-0500
TZOFFSETTO:-0400
TZNAME:EDT
DTSTART:20260308T070000
END:DAYLIGHT
BEGIN:STANDARD
TZOFFSETFROM:-0400
TZOFFSETTO:-0500
TZNAME:EST
DTSTART:20261101T060000
END:STANDARD
END:VTIMEZONE
BEGIN:VEVENT
DTSTART;VALUE=DATE:20250906
DTEND;VALUE=DATE:20250907
DTSTAMP:20260419T123740
CREATED:20250725T171314Z
LAST-MODIFIED:20250725T171314Z
UID:10000202-1757116800-1757203199@local416.ca
SUMMARY:Baseball - Register Today!
DESCRIPTION:PDF not showing up? Click here to view.
URL:https://local416.ca/event/baseball-2025-09-06/
LOCATION:Etobicoke Valley Park
CATEGORIES:Community Event
ATTACH;FMTTYPE=image/jpeg:https://local416.ca/wp-content/uploads/2025/07/TCEU-Local416-CommunityEvent-Baseball-2025-09-06.jpg
END:VEVENT
END:VCALENDAR