BEGIN:VCALENDAR
VERSION:2.0
PRODID:-//TCEU Local 416 - ECPv6.15.20//NONSGML v1.0//EN
CALSCALE:GREGORIAN
METHOD:PUBLISH
X-WR-CALNAME:TCEU Local 416
X-ORIGINAL-URL:https://local416.ca
X-WR-CALDESC:Events for TCEU Local 416
REFRESH-INTERVAL;VALUE=DURATION:PT1H
X-Robots-Tag:noindex
X-PUBLISHED-TTL:PT1H
BEGIN:VTIMEZONE
TZID:America/Toronto
BEGIN:DAYLIGHT
TZOFFSETFROM:-0500
TZOFFSETTO:-0400
TZNAME:EDT
DTSTART:20230312T070000
END:DAYLIGHT
BEGIN:STANDARD
TZOFFSETFROM:-0400
TZOFFSETTO:-0500
TZNAME:EST
DTSTART:20231105T060000
END:STANDARD
BEGIN:DAYLIGHT
TZOFFSETFROM:-0500
TZOFFSETTO:-0400
TZNAME:EDT
DTSTART:20240310T070000
END:DAYLIGHT
BEGIN:STANDARD
TZOFFSETFROM:-0400
TZOFFSETTO:-0500
TZNAME:EST
DTSTART:20241103T060000
END:STANDARD
BEGIN:DAYLIGHT
TZOFFSETFROM:-0500
TZOFFSETTO:-0400
TZNAME:EDT
DTSTART:20250309T070000
END:DAYLIGHT
BEGIN:STANDARD
TZOFFSETFROM:-0400
TZOFFSETTO:-0500
TZNAME:EST
DTSTART:20251102T060000
END:STANDARD
END:VTIMEZONE
BEGIN:VEVENT
DTSTART;TZID=America/Toronto:20241201T130000
DTEND;TZID=America/Toronto:20241201T170000
DTSTAMP:20260425T105043
CREATED:20241028T144339Z
LAST-MODIFIED:20241028T144339Z
UID:10000118-1733058000-1733072400@local416.ca
SUMMARY:2024 Winter Party
DESCRIPTION:Image not showing up? Click here to view.
URL:https://local416.ca/event/2024-winter-party/
CATEGORIES:Community Event,Movie Nights
ATTACH;FMTTYPE=image/jpeg:https://local416.ca/wp-content/uploads/2024/10/TCEU-Local416-2024-WinterParty.jpg
END:VEVENT
BEGIN:VEVENT
DTSTART;TZID=America/Toronto:20241202T170000
DTEND;TZID=America/Toronto:20241202T183000
DTSTAMP:20260425T105043
CREATED:20241115T160109Z
LAST-MODIFIED:20241115T160109Z
UID:10000126-1733158800-1733164200@local416.ca
SUMMARY:Toronto Housing (Seniors) - Unit Meeting
DESCRIPTION:PDF not showing up? Click here to view.
URL:https://local416.ca/event/toronto-housing-seniors-unit-meeting-2024-12-02/
LOCATION:266 Donlands\, Recreation Room East York
CATEGORIES:Community Housing - Seniors,Meetings
ATTACH;FMTTYPE=image/jpeg:https://local416.ca/wp-content/uploads/2024/05/TCEU-Local416-UnitMeetings-TorontoHousingSeniors.jpg
END:VEVENT
BEGIN:VEVENT
DTSTART;TZID=America/Toronto:20241202T173000
DTEND;TZID=America/Toronto:20241202T190000
DTSTAMP:20260425T105043
CREATED:20241119T142143Z
LAST-MODIFIED:20241119T142143Z
UID:10000131-1733160600-1733166000@local416.ca
SUMMARY:Toronto Housing (Family) - Unit Meeting
DESCRIPTION:PDF not showing up? Click here to view.
URL:https://local416.ca/event/toronto-housing-family-unit-meeting-2024-12-02/
LOCATION:20 Gordonbridge Place\, Scarborough
CATEGORIES:Community Housing - Family,Meetings
ATTACH;FMTTYPE=image/jpeg:https://local416.ca/wp-content/uploads/2024/05/TCEU-Local416-UnitMeetings-TorontoHousingFamily.jpg
END:VEVENT
BEGIN:VEVENT
DTSTART;TZID=America/Toronto:20241204T160000
DTEND;TZID=America/Toronto:20241204T170000
DTSTAMP:20260425T105043
CREATED:20241115T160223Z
LAST-MODIFIED:20241115T160223Z
UID:10000128-1733328000-1733331600@local416.ca
SUMMARY:Transportation Services - Unit Meeting
DESCRIPTION:PDF not showing up? Click here to view.
URL:https://local416.ca/event/transportation-services-unit-meeting-2024-12-04/
LOCATION:Union Hall\, 110 Laird Dr\, East York\, Ontario\, M4G 3V3\, Canada
CATEGORIES:Meetings,Transportation Division
ATTACH;FMTTYPE=image/jpeg:https://local416.ca/wp-content/uploads/2024/05/TCEU-Local416-UnitMeetings-TransportationDivision.jpg
END:VEVENT
BEGIN:VEVENT
DTSTART;TZID=America/Toronto:20241204T160000
DTEND;TZID=America/Toronto:20241204T180000
DTSTAMP:20260425T105043
CREATED:20241115T155914Z
LAST-MODIFIED:20241115T155914Z
UID:10000124-1733328000-1733335200@local416.ca
SUMMARY:Parks\, Forestry & Recreation - Unit Meeting
DESCRIPTION:PDF not showing up? Click here to view.
URL:https://local416.ca/event/parks-forestry-recreation-unit-meeting-2024-12-04/
LOCATION:Union Hall\, 110 Laird Dr\, East York\, Ontario\, M4G 3V3\, Canada
CATEGORIES:Meetings,Parks & Recreation
ATTACH;FMTTYPE=image/jpeg:https://local416.ca/wp-content/uploads/2024/05/TCEU-Local416-UnitMeetings-Parks-Forestry-Recreation.jpg
END:VEVENT
BEGIN:VEVENT
DTSTART;TZID=America/Toronto:20241211T160000
DTEND;TZID=America/Toronto:20241211T170000
DTSTAMP:20260425T105043
CREATED:20241115T160027Z
LAST-MODIFIED:20241115T160027Z
UID:10000125-1733932800-1733936400@local416.ca
SUMMARY:Toronto Ports - Unit Meeting
DESCRIPTION:PDF not showing up? Click here to view.
URL:https://local416.ca/event/toronto-ports-unit-meeting-2024-12-11/
LOCATION:Union Hall\, 110 Laird Dr\, East York\, Ontario\, M4G 3V3\, Canada
CATEGORIES:Meetings,Ports
ATTACH;FMTTYPE=image/jpeg:https://local416.ca/wp-content/uploads/2024/05/TCEU-Local416-UnitMeetings-TorontoPorts.jpg
END:VEVENT
BEGIN:VEVENT
DTSTART;TZID=America/Toronto:20241211T160000
DTEND;TZID=America/Toronto:20241211T170000
DTSTAMP:20260425T105043
CREATED:20241115T160305Z
LAST-MODIFIED:20241115T160305Z
UID:10000129-1733932800-1733936400@local416.ca
SUMMARY:Toronto Water - Unit Meeting
DESCRIPTION:PDF not showing up? Click here to view.
URL:https://local416.ca/event/toronto-water-unit-meeting-2024-12-11/
LOCATION:Union Hall\, 110 Laird Dr\, East York\, Ontario\, M4G 3V3\, Canada
CATEGORIES:Meetings,Water
ATTACH;FMTTYPE=image/jpeg:https://local416.ca/wp-content/uploads/2024/05/TCEU-Local416-UnitMeetings-TorontoWater.jpg
END:VEVENT
BEGIN:VEVENT
DTSTART;TZID=America/Toronto:20241211T170000
DTEND;TZID=America/Toronto:20241211T180000
DTSTAMP:20260425T105043
CREATED:20241115T155709Z
LAST-MODIFIED:20241115T155709Z
UID:10000121-1733936400-1733940000@local416.ca
SUMMARY:Corporate Services - Unit Meeting
DESCRIPTION:PDF not showing up? Click here to view.
URL:https://local416.ca/event/corporate-services-unit-meeting-2024-12-11/
LOCATION:Union Hall\, 110 Laird Dr\, East York\, Ontario\, M4G 3V3\, Canada
CATEGORIES:Corporate, Fleet & Forestry,Meetings
ATTACH;FMTTYPE=image/jpeg:https://local416.ca/wp-content/uploads/2024/05/TCEU-Local416-UnitMeetings-CorporateServices.jpg
END:VEVENT
BEGIN:VEVENT
DTSTART;TZID=America/Toronto:20241211T180000
DTEND;TZID=America/Toronto:20241211T190000
DTSTAMP:20260425T105043
CREATED:20241115T155832Z
LAST-MODIFIED:20241115T155832Z
UID:10000123-1733940000-1733943600@local416.ca
SUMMARY:Parking Authority - Unit Meeting
DESCRIPTION:PDF not showing up? Click here to view.
URL:https://local416.ca/event/parking-authority-unit-meeting-2024-12-11/
LOCATION:Union Hall\, 110 Laird Dr\, East York\, Ontario\, M4G 3V3\, Canada
CATEGORIES:Meetings,Parking Authority
ATTACH;FMTTYPE=image/jpeg:https://local416.ca/wp-content/uploads/2024/05/TCEU-Local416-UnitMeetings-ParkingAuthority.jpg
END:VEVENT
BEGIN:VEVENT
DTSTART;TZID=America/Toronto:20241211T180000
DTEND;TZID=America/Toronto:20241211T203000
DTSTAMP:20260425T105043
CREATED:20241115T155753Z
LAST-MODIFIED:20241115T155753Z
UID:10000122-1733940000-1733949000@local416.ca
SUMMARY:Toronto Paramedic Services - Unit Meeting
DESCRIPTION:PDF not showing up? Click here to view.
URL:https://local416.ca/event/toronto-paramedic-services-unit-meeting-2024-12-11/
LOCATION:Union Hall\, 110 Laird Dr\, East York\, Ontario\, M4G 3V3\, Canada
CATEGORIES:Meetings,Paramedic Services
ATTACH;FMTTYPE=image/jpeg:https://local416.ca/wp-content/uploads/2024/05/TCEU-Local416-UnitMeetings-TorontoParamedicServices.jpg
END:VEVENT
BEGIN:VEVENT
DTSTART;TZID=America/Toronto:20241211T190000
DTEND;TZID=America/Toronto:20241211T200000
DTSTAMP:20260425T105043
CREATED:20241115T155622Z
LAST-MODIFIED:20241115T155622Z
UID:10000120-1733943600-1733947200@local416.ca
SUMMARY:Animal Services - Unit Meeting
DESCRIPTION:PDF not showing up? Click here to view.
URL:https://local416.ca/event/animal-services-unit-meeting-2024-12-11/
CATEGORIES:Animal Services,Meetings
ATTACH;FMTTYPE=image/jpeg:https://local416.ca/wp-content/uploads/2024/05/TCEU-Local416-UnitMeetings-AnimalServices.jpg
END:VEVENT
BEGIN:VEVENT
DTSTART;TZID=America/Toronto:20241212T180000
DTEND;TZID=America/Toronto:20241212T190000
DTSTAMP:20260425T105043
CREATED:20241115T160146Z
LAST-MODIFIED:20241115T160146Z
UID:10000127-1734026400-1734030000@local416.ca
SUMMARY:Solid Waste Management - Unit Meeting
DESCRIPTION:PDF not showing up? Click here to view.
URL:https://local416.ca/event/solid-waste-management-unit-meeting-2024-12-12/
LOCATION:Royal Canadian Legion Branch 345\, 81 Peard Rd\, East York\, Ontario\, M4B 1T8\, Canada
CATEGORIES:Meetings,Solid Waste Management
ATTACH;FMTTYPE=image/jpeg:https://local416.ca/wp-content/uploads/2024/05/TCEU-Local416-UnitMeetings-SolidWasteManagement.jpg
END:VEVENT
BEGIN:VEVENT
DTSTART;TZID=America/Toronto:20241216T130000
DTEND;TZID=America/Toronto:20241216T150000
DTSTAMP:20260425T105043
CREATED:20241211T151124Z
LAST-MODIFIED:20241211T151124Z
UID:10000132-1734354000-1734361200@local416.ca
SUMMARY:Enwave - Unit Meeting
DESCRIPTION:PDF not showing up? Click here to view.
URL:https://local416.ca/event/enwave-unit-meeting-2024-12-16/
LOCATION:Pearl Street (Lunch Room)
CATEGORIES:Enwave,Meetings
ATTACH;FMTTYPE=image/jpeg:https://local416.ca/wp-content/uploads/2024/06/TCEU-Local416-UnitMeetings-Enwave.jpg
END:VEVENT
END:VCALENDAR