BEGIN:VCALENDAR
VERSION:2.0
PRODID:-//TCEU Local 416 - ECPv6.15.20//NONSGML v1.0//EN
CALSCALE:GREGORIAN
METHOD:PUBLISH
X-ORIGINAL-URL:https://local416.ca
X-WR-CALDESC:Events for TCEU Local 416
REFRESH-INTERVAL;VALUE=DURATION:PT1H
X-Robots-Tag:noindex
X-PUBLISHED-TTL:PT1H
BEGIN:VTIMEZONE
TZID:America/Toronto
BEGIN:DAYLIGHT
TZOFFSETFROM:-0500
TZOFFSETTO:-0400
TZNAME:EDT
DTSTART:20240310T070000
END:DAYLIGHT
BEGIN:STANDARD
TZOFFSETFROM:-0400
TZOFFSETTO:-0500
TZNAME:EST
DTSTART:20241103T060000
END:STANDARD
BEGIN:DAYLIGHT
TZOFFSETFROM:-0500
TZOFFSETTO:-0400
TZNAME:EDT
DTSTART:20250309T070000
END:DAYLIGHT
BEGIN:STANDARD
TZOFFSETFROM:-0400
TZOFFSETTO:-0500
TZNAME:EST
DTSTART:20251102T060000
END:STANDARD
BEGIN:DAYLIGHT
TZOFFSETFROM:-0500
TZOFFSETTO:-0400
TZNAME:EDT
DTSTART:20260308T070000
END:DAYLIGHT
BEGIN:STANDARD
TZOFFSETFROM:-0400
TZOFFSETTO:-0500
TZNAME:EST
DTSTART:20261101T060000
END:STANDARD
END:VTIMEZONE
BEGIN:VEVENT
DTSTART;TZID=America/Toronto:20251006T160000
DTEND;TZID=America/Toronto:20251006T180000
DTSTAMP:20260419T130823
CREATED:20250923T142656Z
LAST-MODIFIED:20250923T142656Z
UID:10000215-1759766400-1759773600@local416.ca
SUMMARY:Parks & Recreation - Unit Meeting
DESCRIPTION:PDF not showing up? Click here to view.
URL:https://local416.ca/event/parks-recreation-unit-meeting-oct-6-2025/
LOCATION:Kipling Yard Lunchroom\, 441 Kipling Ave\, Toronto
CATEGORIES:Meetings,Parks & Recreation
ATTACH;FMTTYPE=image/jpeg:https://local416.ca/wp-content/uploads/2025/01/TCEU-Local416-UnitMeeting-ParksAndRecreation.jpg
END:VEVENT
BEGIN:VEVENT
DTSTART;TZID=America/Toronto:20251006T170000
DTEND;TZID=America/Toronto:20251006T183000
DTSTAMP:20260419T130823
CREATED:20250923T142931Z
LAST-MODIFIED:20250923T142931Z
UID:10000217-1759770000-1759775400@local416.ca
SUMMARY:Toronto Housing (Seniors) - Unit Meeting
DESCRIPTION:PDF not showing up? Click here to view.
URL:https://local416.ca/event/toronto-housing-seniors-unit-meeting-oct-6-2025/
LOCATION:Tam – o – Shanter Towers\, 3825 Sheppard Ave E\, Scarborough
CATEGORIES:Community Housing - Seniors,Meetings
ATTACH;FMTTYPE=image/jpeg:https://local416.ca/wp-content/uploads/2024/05/TCEU-Local416-UnitMeetings-TorontoHousingSeniors.jpg
END:VEVENT
BEGIN:VEVENT
DTSTART;TZID=America/Toronto:20251006T173000
DTEND;TZID=America/Toronto:20251006T190000
DTSTAMP:20260419T130823
CREATED:20250923T142403Z
LAST-MODIFIED:20250923T142403Z
UID:10000213-1759771800-1759777200@local416.ca
SUMMARY:Toronto Housing (Family) - Unit Meeting
DESCRIPTION:PDF not showing up? Click here to view.
URL:https://local416.ca/event/toronto-housing-family-unit-meeting-oct-6-2025/
LOCATION:2195 Jane Street\, Toronto
CATEGORIES:Community Housing - Family,Meetings
ATTACH;FMTTYPE=image/jpeg:https://local416.ca/wp-content/uploads/2024/05/TCEU-Local416-UnitMeetings-TorontoHousingFamily.jpg
END:VEVENT
BEGIN:VEVENT
DTSTART;TZID=America/Toronto:20251008T160000
DTEND;TZID=America/Toronto:20251008T170000
DTSTAMP:20260419T130823
CREATED:20250923T142820Z
LAST-MODIFIED:20250923T142820Z
UID:10000216-1759939200-1759942800@local416.ca
SUMMARY:Toronto Ports - Unit Meeting
DESCRIPTION:PDF not showing up? Click here to view.
URL:https://local416.ca/event/toronto-ports-unit-meeting-oct-8-2025/
LOCATION:Union Hall\, 110 Laird Dr\, East York\, Ontario\, M4G 3V3\, Canada
CATEGORIES:Meetings,Ports
ATTACH;FMTTYPE=image/jpeg:https://local416.ca/wp-content/uploads/2024/05/TCEU-Local416-UnitMeetings-TorontoPorts.jpg
END:VEVENT
BEGIN:VEVENT
DTSTART;TZID=America/Toronto:20251008T160000
DTEND;TZID=America/Toronto:20251008T170000
DTSTAMP:20260419T130823
CREATED:20250923T143236Z
LAST-MODIFIED:20250923T143236Z
UID:10000220-1759939200-1759942800@local416.ca
SUMMARY:Toronto Water - Unit Meeting
DESCRIPTION:PDF not showing up? Click here to view.
URL:https://local416.ca/event/toronto-water-unit-meeting-0ct-8-2025/
LOCATION:Union Hall\, 110 Laird Dr\, East York\, Ontario\, M4G 3V3\, Canada
CATEGORIES:Meetings,Water
ATTACH;FMTTYPE=image/jpeg:https://local416.ca/wp-content/uploads/2024/05/TCEU-Local416-UnitMeetings-TorontoWater.jpg
END:VEVENT
BEGIN:VEVENT
DTSTART;TZID=America/Toronto:20251008T170000
DTEND;TZID=America/Toronto:20251008T180000
DTSTAMP:20260419T130823
CREATED:20250923T142304Z
LAST-MODIFIED:20250923T142304Z
UID:10000212-1759942800-1759946400@local416.ca
SUMMARY:Corporate\, Fleet & Forestry - Unit Meeting
DESCRIPTION:PDF not showing up? Click here to view.
URL:https://local416.ca/event/corporate-fleet-forestry-unit-meeting-oct-8-2025/
LOCATION:Union Hall\, 110 Laird Dr\, East York\, Ontario\, M4G 3V3\, Canada
CATEGORIES:Corporate, Fleet & Forestry,Meetings
ATTACH;FMTTYPE=image/jpeg:https://local416.ca/wp-content/uploads/2024/04/TCEU-Local416-UnitMeeting-CorporateFleetAndForestry.jpg
END:VEVENT
BEGIN:VEVENT
DTSTART;TZID=America/Toronto:20251008T180000
DTEND;TZID=America/Toronto:20251008T190000
DTSTAMP:20260419T130823
CREATED:20250923T142521Z
LAST-MODIFIED:20250923T142521Z
UID:10000214-1759946400-1759950000@local416.ca
SUMMARY:Parking Authority - Unit Meeting
DESCRIPTION:PDF not showing up? Click here to view.
URL:https://local416.ca/event/parking-authority-unit-meeting-oct-8-2025/
LOCATION:Union Hall\, 110 Laird Dr\, East York\, Ontario\, M4G 3V3\, Canada
CATEGORIES:Meetings,Parking Authority
ATTACH;FMTTYPE=image/jpeg:https://local416.ca/wp-content/uploads/2024/05/TCEU-Local416-UnitMeetings-ParkingAuthority.jpg
END:VEVENT
BEGIN:VEVENT
DTSTART;TZID=America/Toronto:20251008T180000
DTEND;TZID=America/Toronto:20251008T203000
DTSTAMP:20260419T130823
CREATED:20250923T195023Z
LAST-MODIFIED:20250923T195023Z
UID:10000221-1759946400-1759955400@local416.ca
SUMMARY:Toronto Paramedic Services - Unit Meeting
DESCRIPTION:PDF not showing up? Click here to view.
URL:https://local416.ca/event/toronto-paramedic-services-unit-meeting-oct-8-2025/
LOCATION:Etobicoke Olympium\, Olympic Lounge\, 590 Rathburn Road\, Etobicoke
CATEGORIES:Meetings,Paramedic Services
ATTACH;FMTTYPE=image/jpeg:https://local416.ca/wp-content/uploads/2024/05/TCEU-Local416-UnitMeetings-TorontoParamedicServices.jpg
END:VEVENT
BEGIN:VEVENT
DTSTART;TZID=America/Toronto:20251008T185000
DTEND;TZID=America/Toronto:20251008T205000
DTSTAMP:20260419T130823
CREATED:20250923T142139Z
LAST-MODIFIED:20250923T142139Z
UID:10000211-1759949400-1759956600@local416.ca
SUMMARY:Animal Services - Unit Meeting
DESCRIPTION:PDF not showing up? Click here to view.
URL:https://local416.ca/event/animal-services-unit-meeting-oct-8-2025/
LOCATION:MLS Office\, 399 West Mall\, North Tower\, 3rd Floor
CATEGORIES:Animal Services,Meetings
ATTACH;FMTTYPE=image/jpeg:https://local416.ca/wp-content/uploads/2024/05/TCEU-Local416-UnitMeetings-AnimalServices.jpg
END:VEVENT
END:VCALENDAR